BEGIN:VCALENDAR
VERSION:2.0
PRODID:-// - ECPv6.15.20//NONSGML v1.0//EN
CALSCALE:GREGORIAN
METHOD:PUBLISH
X-ORIGINAL-URL:https://hornseapottery.co.uk
X-WR-CALDESC:Events for 
REFRESH-INTERVAL;VALUE=DURATION:PT1H
X-Robots-Tag:noindex
X-PUBLISHED-TTL:PT1H
BEGIN:VTIMEZONE
TZID:Europe/London
BEGIN:DAYLIGHT
TZOFFSETFROM:+0000
TZOFFSETTO:+0100
TZNAME:BST
DTSTART:20250330T010000
END:DAYLIGHT
BEGIN:STANDARD
TZOFFSETFROM:+0100
TZOFFSETTO:+0000
TZNAME:GMT
DTSTART:20251026T010000
END:STANDARD
BEGIN:DAYLIGHT
TZOFFSETFROM:+0000
TZOFFSETTO:+0100
TZNAME:BST
DTSTART:20260329T010000
END:DAYLIGHT
BEGIN:STANDARD
TZOFFSETFROM:+0100
TZOFFSETTO:+0000
TZNAME:GMT
DTSTART:20261025T010000
END:STANDARD
BEGIN:DAYLIGHT
TZOFFSETFROM:+0000
TZOFFSETTO:+0100
TZNAME:BST
DTSTART:20270328T010000
END:DAYLIGHT
BEGIN:STANDARD
TZOFFSETFROM:+0100
TZOFFSETTO:+0000
TZNAME:GMT
DTSTART:20271031T010000
END:STANDARD
END:VTIMEZONE
BEGIN:VEVENT
DTSTART;TZID=Europe/London:20260425T100000
DTEND;TZID=Europe/London:20260425T150000
DTSTAMP:20260423T123738
CREATED:20250921T173757Z
LAST-MODIFIED:20260323T222604Z
UID:2321-1777111200-1777129200@hornseapottery.co.uk
SUMMARY:The Hornsea Pottery Table Top Sale: Hornsea Town Hall\, East Yorkshire
DESCRIPTION:Saturday 25th April 2026\nThe Hornsea Pottery Table Top Sale\nHornsea Town Hall \nDoors open 10am to 3pm\n  \nEntrance Fee 50p Adults\, Children free (accompanied by adult) Cash only please.\nALL Entrance Fee money will be Donated to the Hornsea Inshore Rescue.\n  \nWith the support of the local community\, you helped us to raise over £320.00 for the Hornsea Inshore Rescue in April 2025 via the entrance fee to our Hornsea Pottery Table Top Sale.   \nThere was plenty of Hornsea Pottery available on the day\, so much so\, we’ve decided to do it all again! \n  \n 
URL:https://hornseapottery.co.uk/event/spring-weekend-event-hornsea-town-hall-east-yorkshire/
LOCATION:Hornsea Town Hall\, Newbegin\, Hornsea
ATTACH;FMTTYPE=image/jpeg:https://hornseapottery.co.uk/wp-content/uploads/2023/05/cropped-cropped-HPCRS-Banner-2023.jpg
ORGANIZER;CN="Hornsea Pottery Collectors' and Research Society":MAILTO:secretary.hpcrs@gmail.com
END:VEVENT
END:VCALENDAR